BEGIN:VCALENDAR
VERSION:2.0
PRODID:-//Fédération de la Manche pour la Pêche et la Protection du Milieu Aquatique - ECPv4.6.8//NONSGML v1.0//EN
CALSCALE:GREGORIAN
METHOD:PUBLISH
X-WR-CALNAME:Fédération de la Manche pour la Pêche et la Protection du Milieu Aquatique
X-ORIGINAL-URL:https://www.peche-manche.com
X-WR-CALDESC:Events for Fédération de la Manche pour la Pêche et la Protection du Milieu Aquatique
BEGIN:VEVENT
DTSTART;TZID=Europe/Paris:20240127T100000
DTEND;TZID=Europe/Paris:20240127T123000
DTSTAMP:20260424T170024
CREATED:20240115T150559Z
LAST-MODIFIED:20240115T150559Z
UID:7415-1706349600-1706358600@www.peche-manche.com
SUMMARY:AG AAPPMA Les Amis de la Vire
DESCRIPTION:L’Assemblée Générale ordinaire de l’AAPPMA\, Les Amis de la Vire \, aura lieu le Samedi 27 janvier\, à 10h\, à la mairie de Tessy-sur-Vire. \n
URL:https://www.peche-manche.com/event/ag-aappma-amis-de-vire/
CATEGORIES:AG AAPPMA
ATTACH;FMTTYPE=image/png:https://www.peche-manche.com/wp-content/uploads/2023/01/logo-assemblee-generale.png
END:VEVENT
END:VCALENDAR