BEGIN:VCALENDAR
VERSION:2.0
PRODID:-//Fédération de la Manche pour la Pêche et la Protection du Milieu Aquatique - ECPv4.6.8//NONSGML v1.0//EN
CALSCALE:GREGORIAN
METHOD:PUBLISH
X-WR-CALNAME:Fédération de la Manche pour la Pêche et la Protection du Milieu Aquatique
X-ORIGINAL-URL:https://www.peche-manche.com
X-WR-CALDESC:Events for Fédération de la Manche pour la Pêche et la Protection du Milieu Aquatique
BEGIN:VEVENT
DTSTART;TZID=Europe/Paris:20250208T143000
DTEND;TZID=Europe/Paris:20250208T160000
DTSTAMP:20260420T060058
CREATED:20241216T084730Z
LAST-MODIFIED:20241216T084730Z
UID:7919-1739025000-1739030400@www.peche-manche.com
SUMMARY:AG AAPPMA Association du Bassin de la Sienne
DESCRIPTION:L’Assemblée Générale ordinaire de l’AAPPMA\, de l’Association du Bassin de la Sienne\, aura lieu le Samedi 8 février 2025 à 14h30\, à la Salle des Fêtes de Contrières. \n
URL:https://www.peche-manche.com/event/ag-aappma-association-bassin-de-sienne/
CATEGORIES:AG AAPPMA
ATTACH;FMTTYPE=image/png:https://www.peche-manche.com/wp-content/uploads/2023/01/logo-assemblee-generale.png
END:VEVENT
END:VCALENDAR