BEGIN:VCALENDAR
VERSION:2.0
PRODID:-//Fédération de la Manche pour la Pêche et la Protection du Milieu Aquatique - ECPv4.6.8//NONSGML v1.0//EN
CALSCALE:GREGORIAN
METHOD:PUBLISH
X-WR-CALNAME:Fédération de la Manche pour la Pêche et la Protection du Milieu Aquatique
X-ORIGINAL-URL:https://www.peche-manche.com
X-WR-CALDESC:Events for Fédération de la Manche pour la Pêche et la Protection du Milieu Aquatique
BEGIN:VEVENT
DTSTART;TZID=Europe/Paris:20240120T153000
DTEND;TZID=Europe/Paris:20240120T170000
DTSTAMP:20260424T170031
CREATED:20240115T082539Z
LAST-MODIFIED:20240115T082539Z
UID:7398-1705764600-1705770000@www.peche-manche.com
SUMMARY:AG AAPPMA La Ducéenne
DESCRIPTION:L’Assemblée Générale extraordinaire de l’AAPPMA\, La Ducéenne\, aura lieu le Samedi 20 janvier\, à la Salle de la Mairie de Ducey-les-Chéris. \n
URL:https://www.peche-manche.com/event/ag-aappma-duceenne/
CATEGORIES:AG AAPPMA
ATTACH;FMTTYPE=image/png:https://www.peche-manche.com/wp-content/uploads/2023/01/logo-assemblee-generale.png
END:VEVENT
END:VCALENDAR