BEGIN:VCALENDAR
VERSION:2.0
PRODID:-//Fédération de la Manche pour la Pêche et la Protection du Milieu Aquatique - ECPv4.6.8//NONSGML v1.0//EN
CALSCALE:GREGORIAN
METHOD:PUBLISH
X-WR-CALNAME:Fédération de la Manche pour la Pêche et la Protection du Milieu Aquatique
X-ORIGINAL-URL:https://www.peche-manche.com
X-WR-CALDESC:Events for Fédération de la Manche pour la Pêche et la Protection du Milieu Aquatique
BEGIN:VEVENT
DTSTART;TZID=Europe/Paris:20250126T093000
DTEND;TZID=Europe/Paris:20250126T120000
DTSTAMP:20260420T072944
CREATED:20241205T075810Z
LAST-MODIFIED:20241205T075810Z
UID:7841-1737883800-1737892800@www.peche-manche.com
SUMMARY:AG AAPPMA La Flottante Carentanaise
DESCRIPTION:L’Assemblée Générale ordinaire de l’AAPPMA\, La Flottante Carentanaise\, aura lieu le Dimanche 26 janvier 2025 à 9h30\, au salon d’honneur de la Mairie de Carentan-les-Marais. \n
URL:https://www.peche-manche.com/event/ag-aappma-flottante-carentanaise/
CATEGORIES:AG AAPPMA
ATTACH;FMTTYPE=image/png:https://www.peche-manche.com/wp-content/uploads/2023/01/logo-assemblee-generale.png
END:VEVENT
END:VCALENDAR