BEGIN:VCALENDAR
VERSION:2.0
PRODID:-//Fédération de la Manche pour la Pêche et la Protection du Milieu Aquatique - ECPv4.6.8//NONSGML v1.0//EN
CALSCALE:GREGORIAN
METHOD:PUBLISH
X-WR-CALNAME:Fédération de la Manche pour la Pêche et la Protection du Milieu Aquatique
X-ORIGINAL-URL:https://www.peche-manche.com
X-WR-CALDESC:Events for Fédération de la Manche pour la Pêche et la Protection du Milieu Aquatique
BEGIN:VEVENT
DTSTART;TZID=Europe/Paris:20240216T203000
DTEND;TZID=Europe/Paris:20240216T230000
DTSTAMP:20260424T153258
CREATED:20240116T130020Z
LAST-MODIFIED:20240116T130020Z
UID:7421-1708115400-1708124400@www.peche-manche.com
SUMMARY:AG AAPPMA Le Gardon Chef du Pontais
DESCRIPTION:L’Assemblée Générale ordinaire de l’AAPPMA\, Le Gardon Chef-du-Pontais \, aura lieu le Vendredi 16 Février\, à 20h30\, à Carquebut. \n
URL:https://www.peche-manche.com/event/ag-aappma-gardon-chef-pontais/
CATEGORIES:AG AAPPMA
ATTACH;FMTTYPE=image/png:https://www.peche-manche.com/wp-content/uploads/2023/01/logo-assemblee-generale.png
END:VEVENT
END:VCALENDAR