BEGIN:VCALENDAR
VERSION:2.0
PRODID:-//Fédération de la Manche pour la Pêche et la Protection du Milieu Aquatique - ECPv4.6.8//NONSGML v1.0//EN
CALSCALE:GREGORIAN
METHOD:PUBLISH
X-WR-CALNAME:Fédération de la Manche pour la Pêche et la Protection du Milieu Aquatique
X-ORIGINAL-URL:https://www.peche-manche.com
X-WR-CALDESC:Events for Fédération de la Manche pour la Pêche et la Protection du Milieu Aquatique
BEGIN:VEVENT
DTSTART;TZID=Europe/Paris:20250201T143000
DTEND;TZID=Europe/Paris:20250201T170000
DTSTAMP:20260420T055528
CREATED:20250113T084149Z
LAST-MODIFIED:20250113T084149Z
UID:7972-1738420200-1738429200@www.peche-manche.com
SUMMARY:AG AAPPMA Le Gardon de Pontorson
DESCRIPTION:L’Assemblée Générale ordinaire de l’AAPPMA\, Le Gardon de Pontorson\, aura lieu le Samedi 1  février 2025 à 14h30\, à la Salle des fêtes de Boucey. \n
URL:https://www.peche-manche.com/event/ag-aappma-gardon-de-pontorson/
ATTACH;FMTTYPE=image/png:https://www.peche-manche.com/wp-content/uploads/2023/01/logo-assemblee-generale.png
END:VEVENT
END:VCALENDAR