BEGIN:VCALENDAR
VERSION:2.0
PRODID:-//Fédération de la Manche pour la Pêche et la Protection du Milieu Aquatique - ECPv4.6.8//NONSGML v1.0//EN
CALSCALE:GREGORIAN
METHOD:PUBLISH
X-WR-CALNAME:Fédération de la Manche pour la Pêche et la Protection du Milieu Aquatique
X-ORIGINAL-URL:https://www.peche-manche.com
X-WR-CALDESC:Events for Fédération de la Manche pour la Pêche et la Protection du Milieu Aquatique
BEGIN:VEVENT
DTSTART;TZID=Europe/Paris:20250126T100000
DTEND;TZID=Europe/Paris:20250126T123000
DTSTAMP:20260420T071828
CREATED:20250117T150542Z
LAST-MODIFIED:20250117T150542Z
UID:7995-1737885600-1737894600@www.peche-manche.com
SUMMARY:AG AAPPMA La Gaule Sourdevalaise
DESCRIPTION:L’Assemblée Générale ordinaire de l’AAPPMA\, La Gaule Sourdevalaise\, aura lieu le Dimanche 26 janvier 2025 à 10h00\, à la Mairie de Sourdeval. \n
URL:https://www.peche-manche.com/event/ag-aappma-gaule-sourdevalaise/
CATEGORIES:AG AAPPMA
ATTACH;FMTTYPE=image/png:https://www.peche-manche.com/wp-content/uploads/2023/01/logo-assemblee-generale.png
END:VEVENT
END:VCALENDAR