BEGIN:VCALENDAR
VERSION:2.0
PRODID:-//Fédération de la Manche pour la Pêche et la Protection du Milieu Aquatique - ECPv4.6.8//NONSGML v1.0//EN
CALSCALE:GREGORIAN
METHOD:PUBLISH
X-WR-CALNAME:Fédération de la Manche pour la Pêche et la Protection du Milieu Aquatique
X-ORIGINAL-URL:https://www.peche-manche.com
X-WR-CALDESC:Events for Fédération de la Manche pour la Pêche et la Protection du Milieu Aquatique
BEGIN:VEVENT
DTSTART;TZID=Europe/Paris:20250209T100000
DTEND;TZID=Europe/Paris:20250209T123000
DTSTAMP:20260420T055859
CREATED:20241205T080521Z
LAST-MODIFIED:20241205T080521Z
UID:7845-1739095200-1739104200@www.peche-manche.com
SUMMARY:AG AAPPMA La Gaule Torignaise
DESCRIPTION:L’Assemblée Générale ordinaire de l’AAPPMA\, La Gaule Torignaise\, aura lieu le Dimanche 9 février 2025 à 10h00\, à la salle de conférence du château de Torigny les Villes. \n
URL:https://www.peche-manche.com/event/ag-aappma-gaule-torignaise/
CATEGORIES:AG AAPPMA
ATTACH;FMTTYPE=image/png:https://www.peche-manche.com/wp-content/uploads/2023/01/logo-assemblee-generale.png
END:VEVENT
END:VCALENDAR