BEGIN:VCALENDAR
VERSION:2.0
PRODID:-//Fédération de la Manche pour la Pêche et la Protection du Milieu Aquatique - ECPv4.6.8//NONSGML v1.0//EN
CALSCALE:GREGORIAN
METHOD:PUBLISH
X-WR-CALNAME:Fédération de la Manche pour la Pêche et la Protection du Milieu Aquatique
X-ORIGINAL-URL:https://www.peche-manche.com
X-WR-CALDESC:Events for Fédération de la Manche pour la Pêche et la Protection du Milieu Aquatique
BEGIN:VEVENT
DTSTART;TZID=Europe/Paris:20250202T100000
DTEND;TZID=Europe/Paris:20250202T123000
DTSTAMP:20260420T055742
CREATED:20241217T141830Z
LAST-MODIFIED:20241217T141830Z
UID:7943-1738490400-1738499400@www.peche-manche.com
SUMMARY:AG AAPPMA La Truite du Beuvron
DESCRIPTION:L’Assemblée Générale ordinaire de l’AAPPMA\, La Truite du Beuvron\, aura lieu le Dimanche 2 février 2025 à 10h00\, à Saint-Benoît. \n
URL:https://www.peche-manche.com/event/ag-aappma-truite-beuvron-2/
CATEGORIES:AG AAPPMA
ATTACH;FMTTYPE=image/png:https://www.peche-manche.com/wp-content/uploads/2023/01/logo-assemblee-generale.png
END:VEVENT
END:VCALENDAR