BEGIN:VCALENDAR
VERSION:2.0
PRODID:-//Fédération de la Manche pour la Pêche et la Protection du Milieu Aquatique - ECPv4.6.8//NONSGML v1.0//EN
CALSCALE:GREGORIAN
METHOD:PUBLISH
X-WR-CALNAME:Fédération de la Manche pour la Pêche et la Protection du Milieu Aquatique
X-ORIGINAL-URL:https://www.peche-manche.com
X-WR-CALDESC:Events for Fédération de la Manche pour la Pêche et la Protection du Milieu Aquatique
BEGIN:VEVENT
DTSTART;TZID=Europe/Paris:20250302T093000
DTEND;TZID=Europe/Paris:20250302T120000
DTSTAMP:20260420T010221
CREATED:20250113T083932Z
LAST-MODIFIED:20250113T083932Z
UID:7969-1740907800-1740916800@www.peche-manche.com
SUMMARY:AG AAPPMA La Truite de la Sée
DESCRIPTION:L’Assemblée Générale ordinaire de l’AAPPMA\, La Truite de la Sée\, aura lieu le dimanche 2 mars 2025 à 9h30\, à la Salle Arsène Garnier – Brecey. \n
URL:https://www.peche-manche.com/event/ag-aappma-truite-de-see/
CATEGORIES:AG AAPPMA
ATTACH;FMTTYPE=image/png:https://www.peche-manche.com/wp-content/uploads/2023/01/logo-assemblee-generale.png
END:VEVENT
END:VCALENDAR