BEGIN:VCALENDAR
VERSION:2.0
PRODID:-//Fédération de la Manche pour la Pêche et la Protection du Milieu Aquatique - ECPv4.6.8//NONSGML v1.0//EN
CALSCALE:GREGORIAN
METHOD:PUBLISH
X-WR-CALNAME:Fédération de la Manche pour la Pêche et la Protection du Milieu Aquatique
X-ORIGINAL-URL:https://www.peche-manche.com
X-WR-CALDESC:Events for Fédération de la Manche pour la Pêche et la Protection du Milieu Aquatique
BEGIN:VEVENT
DTSTART;TZID=Europe/Paris:20240210T140000
DTEND;TZID=Europe/Paris:20240210T163000
DTSTAMP:20260424T153419
CREATED:20240105T144331Z
LAST-MODIFIED:20240105T144408Z
UID:7391-1707573600-1707582600@www.peche-manche.com
SUMMARY:AG Association du Bassin de la Sienne
DESCRIPTION:L’Assemblée Générale ordinaire de l’AAPPMA\, L’ Association du Bassin de la Sienne\, aura lieu le Samedi 10 février\, à 14h\, à la Salle municipal à Contrières. \n
URL:https://www.peche-manche.com/event/ag-association-bassin-de-sienne-2/
CATEGORIES:AG AAPPMA
ATTACH;FMTTYPE=image/png:https://www.peche-manche.com/wp-content/uploads/2023/01/logo-assemblee-generale.png
END:VEVENT
END:VCALENDAR