BEGIN:VCALENDAR
VERSION:2.0
PRODID:-//Fédération de la Manche pour la Pêche et la Protection du Milieu Aquatique - ECPv4.6.8//NONSGML v1.0//EN
CALSCALE:GREGORIAN
METHOD:PUBLISH
X-WR-CALNAME:Fédération de la Manche pour la Pêche et la Protection du Milieu Aquatique
X-ORIGINAL-URL:https://www.peche-manche.com
X-WR-CALDESC:Events for Fédération de la Manche pour la Pêche et la Protection du Milieu Aquatique
BEGIN:VEVENT
DTSTART;TZID=Europe/Paris:20240202T200000
DTEND;TZID=Europe/Paris:20240202T220000
DTSTAMP:20260424T153017
CREATED:20231220T102520Z
LAST-MODIFIED:20231220T102520Z
UID:7315-1706904000-1706911200@www.peche-manche.com
SUMMARY:AG La Gaule Marignaise
DESCRIPTION:L’Assemblée Générale ordinaire de l’AAPPMA\, La Gaule Marignaise \, aura lieu le Vendredi 2 février\, à 20h\, à la Salle du jardin Pillard de Marigny. \n
URL:https://www.peche-manche.com/event/ag-gaule-marignaise-2/
CATEGORIES:AG AAPPMA
ATTACH;FMTTYPE=image/png:https://www.peche-manche.com/wp-content/uploads/2023/01/logo-assemblee-generale.png
END:VEVENT
END:VCALENDAR