BEGIN:VCALENDAR
VERSION:2.0
PRODID:-//Fédération de la Manche pour la Pêche et la Protection du Milieu Aquatique - ECPv4.6.8//NONSGML v1.0//EN
CALSCALE:GREGORIAN
METHOD:PUBLISH
X-WR-CALNAME:Fédération de la Manche pour la Pêche et la Protection du Milieu Aquatique
X-ORIGINAL-URL:https://www.peche-manche.com
X-WR-CALDESC:Events for Fédération de la Manche pour la Pêche et la Protection du Milieu Aquatique
BEGIN:VEVENT
DTSTART;TZID=Europe/Paris:20240121T100000
DTEND;TZID=Europe/Paris:20240121T120000
DTSTAMP:20260424T171259
CREATED:20231227T125545Z
LAST-MODIFIED:20231228T083730Z
UID:7357-1705831200-1705838400@www.peche-manche.com
SUMMARY:AG La Gaule Sourdevalaise
DESCRIPTION:L’Assemblée Générale ordinaire de l’AAPPMA\, La Gaule Sourdevalaise \, aura lieu le Dimanche 21 janvier\, à 10h\, à la Salle des Associations à Sourdeval. \n
URL:https://www.peche-manche.com/event/ag-gaule-sourdevalaise/
CATEGORIES:AG AAPPMA
ATTACH;FMTTYPE=image/png:https://www.peche-manche.com/wp-content/uploads/2023/01/logo-assemblee-generale.png
END:VEVENT
END:VCALENDAR