BEGIN:VCALENDAR
VERSION:2.0
PRODID:-//Fédération de la Manche pour la Pêche et la Protection du Milieu Aquatique - ECPv4.6.8//NONSGML v1.0//EN
CALSCALE:GREGORIAN
METHOD:PUBLISH
X-WR-CALNAME:Fédération de la Manche pour la Pêche et la Protection du Milieu Aquatique
X-ORIGINAL-URL:https://www.peche-manche.com
X-WR-CALDESC:Events for Fédération de la Manche pour la Pêche et la Protection du Milieu Aquatique
BEGIN:VEVENT
DTSTART;TZID=Europe/Paris:20240209T203000
DTEND;TZID=Europe/Paris:20240209T223000
DTSTAMP:20260424T153001
CREATED:20231220T103323Z
LAST-MODIFIED:20231220T103323Z
UID:7320-1707510600-1707517800@www.peche-manche.com
SUMMARY:AG La Gaule Torignaise
DESCRIPTION:L’Assemblée Générale ordinaire de l’AAPPMA\, La Gaule Torignaise \, aura lieu le Vendredi 9 février\, à 20h30\, à la Salle de conférence du Château de Torigny les Villes. \n
URL:https://www.peche-manche.com/event/ag-gaule-torignaise-2/
CATEGORIES:AG AAPPMA
ATTACH;FMTTYPE=image/png:https://www.peche-manche.com/wp-content/uploads/2023/01/logo-assemblee-generale.png
END:VEVENT
END:VCALENDAR