BEGIN:VCALENDAR
VERSION:2.0
PRODID:-//Fédération de la Manche pour la Pêche et la Protection du Milieu Aquatique - ECPv4.6.8//NONSGML v1.0//EN
CALSCALE:GREGORIAN
METHOD:PUBLISH
X-WR-CALNAME:Fédération de la Manche pour la Pêche et la Protection du Milieu Aquatique
X-ORIGINAL-URL:https://www.peche-manche.com
X-WR-CALDESC:Events for Fédération de la Manche pour la Pêche et la Protection du Milieu Aquatique
BEGIN:VEVENT
DTSTART;TZID=Europe/Paris:20240211T100000
DTEND;TZID=Europe/Paris:20240211T120000
DTSTAMP:20260424T155250
CREATED:20231220T102124Z
LAST-MODIFIED:20231220T102124Z
UID:7313-1707645600-1707652800@www.peche-manche.com
SUMMARY:AG Les Pêcheurs de Périers St-Sauveur-Lendelin
DESCRIPTION:L’Assemblée Générale ordinaire de l’AAPPMA\, Les Pêcheurs de Périers St-Sauveur-Lendelin \, aura lieu le Dimanche 11 février\, à 10h\, à la Salle des associations de Périers. \n
URL:https://www.peche-manche.com/event/ag-pecheurs-de-periers-st-sauveur-lendelin-2/
CATEGORIES:AG AAPPMA
ATTACH;FMTTYPE=image/png:https://www.peche-manche.com/wp-content/uploads/2023/01/logo-assemblee-generale.png
END:VEVENT
END:VCALENDAR