BEGIN:VCALENDAR
VERSION:2.0
PRODID:-//Fédération de la Manche pour la Pêche et la Protection du Milieu Aquatique - ECPv4.6.8//NONSGML v1.0//EN
CALSCALE:GREGORIAN
METHOD:PUBLISH
X-WR-CALNAME:Fédération de la Manche pour la Pêche et la Protection du Milieu Aquatique
X-ORIGINAL-URL:https://www.peche-manche.com
X-WR-CALDESC:Events for Fédération de la Manche pour la Pêche et la Protection du Milieu Aquatique
BEGIN:VEVENT
DTSTART;TZID=Europe/Paris:20240303T100000
DTEND;TZID=Europe/Paris:20240303T120000
DTSTAMP:20260424T135859
CREATED:20231228T152143Z
LAST-MODIFIED:20231228T152143Z
UID:7372-1709460000-1709467200@www.peche-manche.com
SUMMARY:AG La Truite de la Sée
DESCRIPTION:\nL’Assemblée Générale ordinaire de l’AAPPMA\, La Truite de la Sée \, aura lieu le Dimanche 3 mars\, à 10h\, à la Salle Marcel Hélie à Brécey. \n\n
URL:https://www.peche-manche.com/event/ag-truite-de-see-2/
CATEGORIES:AG AAPPMA
ATTACH;FMTTYPE=image/png:https://www.peche-manche.com/wp-content/uploads/2023/01/logo-assemblee-generale.png
END:VEVENT
END:VCALENDAR