BEGIN:VCALENDAR
VERSION:2.0
PRODID:-//Fédération de la Manche pour la Pêche et la Protection du Milieu Aquatique - ECPv4.6.8//NONSGML v1.0//EN
CALSCALE:GREGORIAN
METHOD:PUBLISH
X-WR-CALNAME:Fédération de la Manche pour la Pêche et la Protection du Milieu Aquatique
X-ORIGINAL-URL:https://www.peche-manche.com
X-WR-CALDESC:Events for Fédération de la Manche pour la Pêche et la Protection du Milieu Aquatique
BEGIN:VEVENT
DTSTART;TZID=Europe/Paris:20200610T140000
DTEND;TZID=Europe/Paris:20200610T160000
DTSTAMP:20260419T171805
CREATED:20200219T111822Z
LAST-MODIFIED:20200602T120045Z
UID:3986-1591797600-1591804800@www.peche-manche.com
SUMMARY:(Annulée) Animation gratuite Station de comptage des Claies de Vire
DESCRIPTION:
URL:https://www.peche-manche.com/event/animation-gratuite-station-de-comptage-claies-de-vire-22/
END:VEVENT
END:VCALENDAR