BEGIN:VCALENDAR
VERSION:2.0
PRODID:-//Fédération de la Manche pour la Pêche et la Protection du Milieu Aquatique - ECPv4.6.8//NONSGML v1.0//EN
CALSCALE:GREGORIAN
METHOD:PUBLISH
X-WR-CALNAME:Fédération de la Manche pour la Pêche et la Protection du Milieu Aquatique
X-ORIGINAL-URL:https://www.peche-manche.com
X-WR-CALDESC:Events for Fédération de la Manche pour la Pêche et la Protection du Milieu Aquatique
BEGIN:VEVENT
DTSTART;TZID=Europe/Paris:20200415T140000
DTEND;TZID=Europe/Paris:20200415T160000
DTSTAMP:20260421T083321
CREATED:20200219T104658Z
LAST-MODIFIED:20200219T104658Z
UID:3952-1586959200-1586966400@www.peche-manche.com
SUMMARY:Animation gratuite Station de comptage des Claies de Vire
DESCRIPTION:
URL:https://www.peche-manche.com/event/animation-gratuite-station-de-comptage-claies-de-vire-5/
END:VEVENT
END:VCALENDAR