BEGIN:VCALENDAR
VERSION:2.0
PRODID:-//Fédération de la Manche pour la Pêche et la Protection du Milieu Aquatique - ECPv4.6.8//NONSGML v1.0//EN
CALSCALE:GREGORIAN
METHOD:PUBLISH
X-WR-CALNAME:Fédération de la Manche pour la Pêche et la Protection du Milieu Aquatique
X-ORIGINAL-URL:https://www.peche-manche.com
X-WR-CALDESC:Events for Fédération de la Manche pour la Pêche et la Protection du Milieu Aquatique
BEGIN:VEVENT
DTSTART;TZID=Europe/Paris:20200617T133000
DTEND;TZID=Europe/Paris:20200617T160000
DTSTAMP:20260419T120633
CREATED:20200218T141710Z
LAST-MODIFIED:20200612T101856Z
UID:3931-1592400600-1592409600@www.peche-manche.com
SUMMARY:(Annulée) Animation Pêche à la Mouche
DESCRIPTION:
URL:https://www.peche-manche.com/event/animation-peche-a-mouche-2/
ORGANIZER;CN="FDAAPPMA%20de%20la%20Manche":MAILTO:contact@peche-manche.com
END:VEVENT
END:VCALENDAR