BEGIN:VCALENDAR
VERSION:2.0
PRODID:-//Fédération de la Manche pour la Pêche et la Protection du Milieu Aquatique - ECPv4.6.8//NONSGML v1.0//EN
CALSCALE:GREGORIAN
METHOD:PUBLISH
X-WR-CALNAME:Fédération de la Manche pour la Pêche et la Protection du Milieu Aquatique
X-ORIGINAL-URL:https://www.peche-manche.com
X-WR-CALDESC:Events for Fédération de la Manche pour la Pêche et la Protection du Milieu Aquatique
BEGIN:VEVENT
DTSTART;TZID=Europe/Paris:20200429T133000
DTEND;TZID=Europe/Paris:20200429T160000
DTSTAMP:20260420T225756
CREATED:20200218T113525Z
LAST-MODIFIED:20200423T095713Z
UID:3890-1588167000-1588176000@www.peche-manche.com
SUMMARY:[Annulée] Animation Pêche au coup
DESCRIPTION:
URL:https://www.peche-manche.com/event/animation-peche-coup/
ORGANIZER;CN="FDAAPPMA%20de%20la%20Manche":MAILTO:contact@peche-manche.com
END:VEVENT
END:VCALENDAR