BEGIN:VCALENDAR
VERSION:2.0
PRODID:-//Fédération de la Manche pour la Pêche et la Protection du Milieu Aquatique - ECPv4.6.8//NONSGML v1.0//EN
CALSCALE:GREGORIAN
METHOD:PUBLISH
X-WR-CALNAME:Fédération de la Manche pour la Pêche et la Protection du Milieu Aquatique
X-ORIGINAL-URL:https://www.peche-manche.com
X-WR-CALDESC:Events for Fédération de la Manche pour la Pêche et la Protection du Milieu Aquatique
BEGIN:VEVENT
DTSTART;TZID=Europe/Paris:20240406T133000
DTEND;TZID=Europe/Paris:20240406T160000
DTSTAMP:20260424T123629
CREATED:20231206T104030Z
LAST-MODIFIED:20231220T104433Z
UID:7206-1712410200-1712419200@www.peche-manche.com
SUMMARY:Animation Pêche de la Truite
DESCRIPTION:La fédération vous propose une animation “Pêche de la Truite” sur la Divette à Sideville (rendez-vous au parking de la Mairie)\, le samedi 6 avril 2024 (13h30/16h). Cette animation est ouverte aux 12 ans et plus\, et un niveau débutant est suffisant. \nL’ensemble du matériel est fourni par la fédération. \nTarifs : 12€ pour les détenteurs d’une carte de pêche et 13€ pour les non-détenteurs. \nInfos : au 02.33.46.96.50 ou par mail à contact@peche-manche.com \nRéservations et paiement (obligatoire): https://www.peche-manche.com/reservation-animations/   \nN.B: La fédération se réserve le droit d’annuler l’animation en cas de mauvaises conditions météorologiques\, par manque de participants\, ou bien pour toutes autres raisons le justifiant. \n©FDAAPPMA50 \n
URL:https://www.peche-manche.com/event/animation-peche-de-truite-3/
CATEGORIES:Animation PDIPNI
ATTACH;FMTTYPE=image/jpeg:https://www.peche-manche.com/wp-content/uploads/2023/12/20230417_123912.jpg
ORGANIZER;CN="FDAAPPMA%20de%20la%20Manche":MAILTO:contact@peche-manche.com
END:VEVENT
END:VCALENDAR