BEGIN:VCALENDAR
VERSION:2.0
PRODID:-//Fédération de la Manche pour la Pêche et la Protection du Milieu Aquatique - ECPv4.6.8//NONSGML v1.0//EN
CALSCALE:GREGORIAN
METHOD:PUBLISH
X-WR-CALNAME:Fédération de la Manche pour la Pêche et la Protection du Milieu Aquatique
X-ORIGINAL-URL:https://www.peche-manche.com
X-WR-CALDESC:Events for Fédération de la Manche pour la Pêche et la Protection du Milieu Aquatique
BEGIN:VEVENT
DTSTART;TZID=Europe/Paris:20200729T133000
DTEND;TZID=Europe/Paris:20200729T160000
DTSTAMP:20260420T092024
CREATED:20200218T140441Z
LAST-MODIFIED:20200219T150841Z
UID:3910-1596029400-1596038400@www.peche-manche.com
SUMMARY:Animation Pêche des Écrevisses
DESCRIPTION:
URL:https://www.peche-manche.com/event/animation-peche-ecrevisses-2/
ORGANIZER;CN="FDAAPPMA%20de%20la%20Manche":MAILTO:contact@peche-manche.com
END:VEVENT
END:VCALENDAR