BEGIN:VCALENDAR
VERSION:2.0
PRODID:-//Fédération de la Manche pour la Pêche et la Protection du Milieu Aquatique - ECPv4.6.8//NONSGML v1.0//EN
CALSCALE:GREGORIAN
METHOD:PUBLISH
X-WR-CALNAME:Fédération de la Manche pour la Pêche et la Protection du Milieu Aquatique
X-ORIGINAL-URL:https://www.peche-manche.com
X-WR-CALDESC:Events for Fédération de la Manche pour la Pêche et la Protection du Milieu Aquatique
BEGIN:VEVENT
DTSTART;TZID=Europe/Paris:20231125T090000
DTEND;TZID=Europe/Paris:20231125T130000
DTSTAMP:20260424T195622
CREATED:20231103T152134Z
LAST-MODIFIED:20231103T152134Z
UID:7170-1700902800-1700917200@www.peche-manche.com
SUMMARY:Animation rodbuilding
DESCRIPTION:La fédération vous propose une animation  “Rodbuilding” à la Maison de la Pêche et de la Nature\, le 25 novembre 2023 (9h00/13h00).  \nL’ensemble du matériel est fourni par la fédération et rodhouse.  \nTarifs : 10€ \nInfos au 02.33.46.96.50 ou par mail à contact@peche-manche.com  \nRéservations (obligatoires) sur HelloAsso  \nN.B: La fédération se réserve le droit d’annuler l’animation en cas de mauvaises conditions météorologiques\, par manque de participants\, ou bien pour toutes autres raisons le justifiant. \n
URL:https://www.peche-manche.com/event/animation-rodbuilding/
END:VEVENT
END:VCALENDAR