BEGIN:VCALENDAR
VERSION:2.0
PRODID:-//Fédération de la Manche pour la Pêche et la Protection du Milieu Aquatique - ECPv4.6.8//NONSGML v1.0//EN
CALSCALE:GREGORIAN
METHOD:PUBLISH
X-WR-CALNAME:Fédération de la Manche pour la Pêche et la Protection du Milieu Aquatique
X-ORIGINAL-URL:https://www.peche-manche.com
X-WR-CALDESC:Events for Fédération de la Manche pour la Pêche et la Protection du Milieu Aquatique
BEGIN:VEVENT
DTSTART;TZID=Europe/Paris:20240605T140000
DTEND;TZID=Europe/Paris:20240605T170000
DTSTAMP:20260420T230513
CREATED:20240206T083423Z
LAST-MODIFIED:20240206T083423Z
UID:7457-1717596000-1717606800@www.peche-manche.com
SUMMARY:Animation Station de Comptage des Claies de Vire
DESCRIPTION:Venez découvrir l’observatoire piscicole des Claies de Vire située sur la commune de La Meauffe à partir de 14h00 ce mercredi 5 juin 2024. \nLa Station de comptage piscicole des Claies de Vire\, est destinée au suivi scientifique des populations migratrices (Saumon atlantique\, Truite de mer\, Grande alose\, Lamproies marine et fluviatile\, Anguille européenne) mais également à la sensibilisation du grand public lors d’animations organisées tous les mercredis après-midi d’avril a mi-juin (animations gratuites\, ouvertes à toutes et tous).  \nN’hésitez pas à vous rendre sur le site des Claies de Vire (commune de La Meauffe) pour venir découvrir ou en apprendre davantage sur les poissons migrateurs qui peuplent la Vire. \n
URL:https://www.peche-manche.com/event/animation-station-de-comptage-claies-de-vire-30/
CATEGORIES:Animation Claies de Vire
ATTACH;FMTTYPE=image/jpeg:https://www.peche-manche.com/wp-content/uploads/2024/02/cdv.jpg
ORGANIZER;CN="FDAAPPMA%20de%20la%20Manche":MAILTO:contact@peche-manche.com
END:VEVENT
END:VCALENDAR