BEGIN:VCALENDAR
VERSION:2.0
PRODID:-//Fédération de la Manche pour la Pêche et la Protection du Milieu Aquatique - ECPv4.6.8//NONSGML v1.0//EN
CALSCALE:GREGORIAN
METHOD:PUBLISH
X-WR-CALNAME:Fédération de la Manche pour la Pêche et la Protection du Milieu Aquatique
X-ORIGINAL-URL:https://www.peche-manche.com
X-WR-CALDESC:Events for Fédération de la Manche pour la Pêche et la Protection du Milieu Aquatique
BEGIN:VEVENT
DTSTART;TZID=Europe/Paris:20200215T150000
DTEND;TZID=Europe/Paris:20200215T170000
DTSTAMP:20260419T190125
CREATED:20200110T110840Z
LAST-MODIFIED:20200110T110840Z
UID:3778-1581778800-1581786000@www.peche-manche.com
SUMMARY:Assemblée Générale AAPPMA La Ducéenne
DESCRIPTION:
URL:https://www.peche-manche.com/event/assemblee-generale-aappma-duceenne-3/
LOCATION:Ducey
END:VEVENT
END:VCALENDAR