BEGIN:VCALENDAR
VERSION:2.0
PRODID:-//Fédération de la Manche pour la Pêche et la Protection du Milieu Aquatique - ECPv4.6.8//NONSGML v1.0//EN
CALSCALE:GREGORIAN
METHOD:PUBLISH
X-WR-CALNAME:Fédération de la Manche pour la Pêche et la Protection du Milieu Aquatique
X-ORIGINAL-URL:https://www.peche-manche.com
X-WR-CALDESC:Events for Fédération de la Manche pour la Pêche et la Protection du Milieu Aquatique
BEGIN:VEVENT
DTSTART;TZID=Europe/Paris:20200209T100000
DTEND;TZID=Europe/Paris:20200209T120000
DTSTAMP:20260419T160623
CREATED:20200110T110610Z
LAST-MODIFIED:20200110T110610Z
UID:3771-1581242400-1581249600@www.peche-manche.com
SUMMARY:Assemblée Générale AAPPMA La Gaule Mortainaise
DESCRIPTION:
URL:https://www.peche-manche.com/event/assemblee-generale-aappma-gaule-mortainaise/
LOCATION:Mortain
END:VEVENT
END:VCALENDAR