BEGIN:VCALENDAR
VERSION:2.0
PRODID:-//Fédération de la Manche pour la Pêche et la Protection du Milieu Aquatique - ECPv4.6.8//NONSGML v1.0//EN
CALSCALE:GREGORIAN
METHOD:PUBLISH
X-WR-CALNAME:Fédération de la Manche pour la Pêche et la Protection du Milieu Aquatique
X-ORIGINAL-URL:https://www.peche-manche.com
X-WR-CALDESC:Events for Fédération de la Manche pour la Pêche et la Protection du Milieu Aquatique
BEGIN:VEVENT
DTSTART;TZID=Europe/Paris:20200214T203000
DTEND;TZID=Europe/Paris:20200214T223000
DTSTAMP:20260419T173500
CREATED:20200110T110223Z
LAST-MODIFIED:20200110T110223Z
UID:3764-1581712200-1581719400@www.peche-manche.com
SUMMARY:Assemblée Générale AAPPMA La Gaule Torignaise
DESCRIPTION:
URL:https://www.peche-manche.com/event/assemblee-generale-aappma-gaule-torignaise/
LOCATION:Torigny-les-Villes
END:VEVENT
END:VCALENDAR