BEGIN:VCALENDAR
VERSION:2.0
PRODID:-//Fédération de la Manche pour la Pêche et la Protection du Milieu Aquatique - ECPv4.6.8//NONSGML v1.0//EN
CALSCALE:GREGORIAN
METHOD:PUBLISH
X-WR-CALNAME:Fédération de la Manche pour la Pêche et la Protection du Milieu Aquatique
X-ORIGINAL-URL:https://www.peche-manche.com
X-WR-CALDESC:Events for Fédération de la Manche pour la Pêche et la Protection du Milieu Aquatique
BEGIN:VEVENT
DTSTART;TZID=Europe/Paris:20200209T093000
DTEND;TZID=Europe/Paris:20200209T113000
DTSTAMP:20260419T141233
CREATED:20200110T110056Z
LAST-MODIFIED:20200110T110056Z
UID:3761-1581240600-1581247800@www.peche-manche.com
SUMMARY:Assemblée Générale AAPPMA Les Pêcheurs de Condé-sur-Vire
DESCRIPTION:
URL:https://www.peche-manche.com/event/assemblee-generale-aappma-pecheurs-de-conde-vire-2/
LOCATION:Condé-sur-Vire
END:VEVENT
END:VCALENDAR