BEGIN:VCALENDAR
VERSION:2.0
PRODID:-//Fédération de la Manche pour la Pêche et la Protection du Milieu Aquatique - ECPv4.6.8//NONSGML v1.0//EN
CALSCALE:GREGORIAN
METHOD:PUBLISH
X-WR-CALNAME:Fédération de la Manche pour la Pêche et la Protection du Milieu Aquatique
X-ORIGINAL-URL:https://www.peche-manche.com
X-WR-CALDESC:Events for Fédération de la Manche pour la Pêche et la Protection du Milieu Aquatique
BEGIN:VEVENT
DTSTART;TZID=Europe/Paris:20200223T093000
DTEND;TZID=Europe/Paris:20200223T120000
DTSTAMP:20260419T222205
CREATED:20200110T105607Z
LAST-MODIFIED:20200110T105607Z
UID:3751-1582450200-1582459200@www.peche-manche.com
SUMMARY:Assemblée Générale AAPPMA Les Pêcheurs de Périers-St Sauveur Lendelin
DESCRIPTION:
URL:https://www.peche-manche.com/event/assemblee-generale-aappma-pecheurs-de-periers-st-sauveur-lendelin/
LOCATION:PERIERS
END:VEVENT
END:VCALENDAR