BEGIN:VCALENDAR
VERSION:2.0
PRODID:-//Fédération de la Manche pour la Pêche et la Protection du Milieu Aquatique - ECPv4.6.8//NONSGML v1.0//EN
CALSCALE:GREGORIAN
METHOD:PUBLISH
X-WR-CALNAME:Fédération de la Manche pour la Pêche et la Protection du Milieu Aquatique
X-ORIGINAL-URL:https://www.peche-manche.com
X-WR-CALDESC:Events for Fédération de la Manche pour la Pêche et la Protection du Milieu Aquatique
BEGIN:VEVENT
DTSTART;TZID=Europe/Paris:20200223T093000
DTEND;TZID=Europe/Paris:20200223T110000
DTSTAMP:20260420T012902
CREATED:20200115T112125Z
LAST-MODIFIED:20200115T112125Z
UID:3807-1582450200-1582455600@www.peche-manche.com
SUMMARY:Assemblée Générale AAPPMA La Truite Cherbourgeoise-Mouche de Saire
DESCRIPTION:
URL:https://www.peche-manche.com/event/assemblee-generale-aappma-truite-cherbourgeoise-mouche-de-saire-2/
LOCATION:TOURLAVILLE
END:VEVENT
END:VCALENDAR