BEGIN:VCALENDAR
VERSION:2.0
PRODID:-//Fédération de la Manche pour la Pêche et la Protection du Milieu Aquatique - ECPv4.6.8//NONSGML v1.0//EN
CALSCALE:GREGORIAN
METHOD:PUBLISH
X-WR-CALNAME:Fédération de la Manche pour la Pêche et la Protection du Milieu Aquatique
X-ORIGINAL-URL:https://www.peche-manche.com
X-WR-CALDESC:Events for Fédération de la Manche pour la Pêche et la Protection du Milieu Aquatique
BEGIN:VEVENT
DTSTART;TZID=Europe/Paris:20211022T200000
DTEND;TZID=Europe/Paris:20211022T200000
DTSTAMP:20260419T124156
CREATED:20211005T071014Z
LAST-MODIFIED:20211005T085142Z
UID:5297-1634932800-1634932800@www.peche-manche.com
SUMMARY:Assemblée Générale "Les Pêcheurs de la Douve"
DESCRIPTION:Vendredi 22 octobre à 20 heures se déroulera l’assemblée générale “Les Pêcheurs de la Douve” dans la salle du Prieuré à 50360 PICAUVILLE 
URL:https://www.peche-manche.com/event/assemblee-generale-pecheurs-de-douve/
CATEGORIES:AG AAPPMA
END:VEVENT
END:VCALENDAR