BEGIN:VCALENDAR
VERSION:2.0
PRODID:-//Fédération de la Manche pour la Pêche et la Protection du Milieu Aquatique - ECPv4.6.8//NONSGML v1.0//EN
CALSCALE:GREGORIAN
METHOD:PUBLISH
X-WR-CALNAME:Fédération de la Manche pour la Pêche et la Protection du Milieu Aquatique
X-ORIGINAL-URL:https://www.peche-manche.com
X-WR-CALDESC:Events for Fédération de la Manche pour la Pêche et la Protection du Milieu Aquatique
BEGIN:VEVENT
DTSTART;TZID=Europe/Paris:20211024T100000
DTEND;TZID=Europe/Paris:20211024T120000
DTSTAMP:20260419T152234
CREATED:20210913T074104Z
LAST-MODIFIED:20210915T124702Z
UID:5207-1635069600-1635076800@www.peche-manche.com
SUMMARY:Assemblée générale "la Truite Saint Hilairienne"
DESCRIPTION:L’élection de l’ AAPPMA “la Truite Saint Hilairienne” aura lieu à la salle du marché couvert de Marly le 24 octobre 2021 à 10h \n
URL:https://www.peche-manche.com/event/assemblee-generale-truite-saint-hilairienne/
CATEGORIES:AG AAPPMA
END:VEVENT
END:VCALENDAR