BEGIN:VCALENDAR
VERSION:2.0
PRODID:-//Fédération de la Manche pour la Pêche et la Protection du Milieu Aquatique - ECPv4.6.8//NONSGML v1.0//EN
CALSCALE:GREGORIAN
METHOD:PUBLISH
X-WR-CALNAME:Fédération de la Manche pour la Pêche et la Protection du Milieu Aquatique
X-ORIGINAL-URL:https://www.peche-manche.com
X-WR-CALDESC:Events for Fédération de la Manche pour la Pêche et la Protection du Milieu Aquatique
BEGIN:VEVENT
DTSTART;TZID=Europe/Paris:20241012T083000
DTEND;TZID=Europe/Paris:20241012T123000
DTSTAMP:20260420T135613
CREATED:20240822T093830Z
LAST-MODIFIED:20240822T093904Z
UID:7730-1728721800-1728736200@www.peche-manche.com
SUMMARY:Challenge Carnassiers
DESCRIPTION:Le Challenge Carnassiers aura lieu le samedi 12 octobre 2024 à l’Etang du Goulet à Fresville.   \nCe concours est ouvert aux pêcheurs de carnassiers en Float-Tube et Kayak.   \nCette manifestation a pour but d’évaluer la population piscicole présente dans ce plan d’eau. Infos pratiques : \nLe montant de l’inscription est fixé à 30€ par personne (repas compris)  \nLe nombre de participants au concours est limité à 30 personnes.   \nLes participants devront posséder une carte de pêche valide.   \nL’âge minimal des participants est de 14 ans. (Pour les mineurs une autorisation parentale écrite est obligatoire)  \nPlus d’info sur la page “Challenge Carnassiers” \nChallenge Carnassiers \n 
URL:https://www.peche-manche.com/event/challenge-carnassiers/
CATEGORIES:Concours de pêche
ATTACH;FMTTYPE=image/jpeg:https://www.peche-manche.com/wp-content/uploads/2024/07/affiche-A4-.pdf-1.jpg
ORGANIZER;CN="FDAAPPMA%20de%20la%20Manche":MAILTO:contact@peche-manche.com
END:VEVENT
END:VCALENDAR