BEGIN:VCALENDAR
VERSION:2.0
PRODID:-//Fédération de la Manche pour la Pêche et la Protection du Milieu Aquatique - ECPv4.6.8//NONSGML v1.0//EN
CALSCALE:GREGORIAN
METHOD:PUBLISH
X-WR-CALNAME:Fédération de la Manche pour la Pêche et la Protection du Milieu Aquatique
X-ORIGINAL-URL:https://www.peche-manche.com
X-WR-CALDESC:Events for Fédération de la Manche pour la Pêche et la Protection du Milieu Aquatique
BEGIN:VEVENT
DTSTART;VALUE=DATE:20200412
DTEND;VALUE=DATE:20200413
DTSTAMP:20260422T113533
CREATED:20200224T112256Z
LAST-MODIFIED:20200224T112256Z
UID:4016-1586649600-1586735999@www.peche-manche.com
SUMMARY:Concours de pêche étang de Montaigu
DESCRIPTION:
URL:https://www.peche-manche.com/event/concours-de-peche-etang-de-montaigu/
END:VEVENT
END:VCALENDAR