BEGIN:VCALENDAR
VERSION:2.0
PRODID:-//Fédération de la Manche pour la Pêche et la Protection du Milieu Aquatique - ECPv4.6.8//NONSGML v1.0//EN
CALSCALE:GREGORIAN
METHOD:PUBLISH
X-WR-CALNAME:Fédération de la Manche pour la Pêche et la Protection du Milieu Aquatique
X-ORIGINAL-URL:https://www.peche-manche.com
X-WR-CALDESC:Events for Fédération de la Manche pour la Pêche et la Protection du Milieu Aquatique
BEGIN:VEVENT
DTSTART;VALUE=DATE:20200614
DTEND;VALUE=DATE:20200615
DTSTAMP:20260419T151002
CREATED:20200224T111858Z
LAST-MODIFIED:20200224T111858Z
UID:4010-1592092800-1592179199@www.peche-manche.com
SUMMARY:Concours de pêche étang de St Malo de la Lande
DESCRIPTION:
URL:https://www.peche-manche.com/event/concours-de-peche-etang-de-st-malo-de-lande-3/
END:VEVENT
END:VCALENDAR