BEGIN:VCALENDAR
VERSION:2.0
PRODID:-//Fédération de la Manche pour la Pêche et la Protection du Milieu Aquatique - ECPv4.6.8//NONSGML v1.0//EN
CALSCALE:GREGORIAN
METHOD:PUBLISH
X-WR-CALNAME:Fédération de la Manche pour la Pêche et la Protection du Milieu Aquatique
X-ORIGINAL-URL:https://www.peche-manche.com
X-WR-CALDESC:Events for Fédération de la Manche pour la Pêche et la Protection du Milieu Aquatique
BEGIN:VEVENT
DTSTART;TZID=Europe/Paris:20200314T080000
DTEND;TZID=Europe/Paris:20200314T200000
DTSTAMP:20260420T062237
CREATED:20200219T103520Z
LAST-MODIFIED:20200219T103520Z
UID:3941-1584172800-1584216000@www.peche-manche.com
SUMMARY:Ouverture de la pêche en première catégorie piscicole
DESCRIPTION:
URL:https://www.peche-manche.com/event/ouverture-de-peche-premiere-categorie-piscicole/
END:VEVENT
END:VCALENDAR