BEGIN:VCALENDAR
VERSION:2.0
PRODID:-//Fédération de la Manche pour la Pêche et la Protection du Milieu Aquatique - ECPv4.6.8//NONSGML v1.0//EN
CALSCALE:GREGORIAN
METHOD:PUBLISH
X-WR-CALNAME:Fédération de la Manche pour la Pêche et la Protection du Milieu Aquatique
X-ORIGINAL-URL:https://www.peche-manche.com
X-WR-CALDESC:Events for Fédération de la Manche pour la Pêche et la Protection du Milieu Aquatique
BEGIN:VEVENT
DTSTART;VALUE=DATE:20190414
DTEND;VALUE=DATE:20190415
DTSTAMP:20260425T020635
CREATED:20190215T100442Z
LAST-MODIFIED:20190215T100442Z
UID:3049-1555200000-1555286399@www.peche-manche.com
SUMMARY:Concours de Pêche AAPPMA Association du Bassin de la Sienne
DESCRIPTION:Pêche de la Truite – Etangs de Montaigu. \n
URL:https://www.peche-manche.com/event/concours-de-peche-aappma-association-bassin-de-sienne/
CATEGORIES:Journée Nationale de la Pêche
ATTACH;FMTTYPE=image/jpeg:https://www.peche-manche.com/wp-content/uploads/2018/04/concours.jpg
END:VEVENT
END:VCALENDAR